BEGIN:VCALENDAR
VERSION:2.0
PRODID:-//Frauenchor Dachsenhausen e.V. - ECPv6.15.20//NONSGML v1.0//EN
CALSCALE:GREGORIAN
METHOD:PUBLISH
X-WR-CALNAME:Frauenchor Dachsenhausen e.V.
X-ORIGINAL-URL:https://frauenchor-dachsenhausen.de
X-WR-CALDESC:Veranstaltungen für Frauenchor Dachsenhausen e.V.
REFRESH-INTERVAL;VALUE=DURATION:PT1H
X-Robots-Tag:noindex
X-PUBLISHED-TTL:PT1H
BEGIN:VTIMEZONE
TZID:Europe/Berlin
BEGIN:DAYLIGHT
TZOFFSETFROM:+0100
TZOFFSETTO:+0200
TZNAME:CEST
DTSTART:20240331T010000
END:DAYLIGHT
BEGIN:STANDARD
TZOFFSETFROM:+0200
TZOFFSETTO:+0100
TZNAME:CET
DTSTART:20241027T010000
END:STANDARD
BEGIN:DAYLIGHT
TZOFFSETFROM:+0100
TZOFFSETTO:+0200
TZNAME:CEST
DTSTART:20250330T010000
END:DAYLIGHT
BEGIN:STANDARD
TZOFFSETFROM:+0200
TZOFFSETTO:+0100
TZNAME:CET
DTSTART:20251026T010000
END:STANDARD
BEGIN:DAYLIGHT
TZOFFSETFROM:+0100
TZOFFSETTO:+0200
TZNAME:CEST
DTSTART:20260329T010000
END:DAYLIGHT
BEGIN:STANDARD
TZOFFSETFROM:+0200
TZOFFSETTO:+0100
TZNAME:CET
DTSTART:20261025T010000
END:STANDARD
END:VTIMEZONE
BEGIN:VEVENT
DTSTART;TZID=Europe/Berlin:20250701T183000
DTEND;TZID=Europe/Berlin:20250701T233000
DTSTAMP:20260420T022308
CREATED:20250731T174240Z
LAST-MODIFIED:20250731T182458Z
UID:3092-1751394600-1751412600@frauenchor-dachsenhausen.de
SUMMARY:Unser Sommerfest
DESCRIPTION:
URL:https://frauenchor-dachsenhausen.de/termin/unser-sommerfest/
END:VEVENT
BEGIN:VEVENT
DTSTART;TZID=Europe/Berlin:20250708T194500
DTEND;TZID=Europe/Berlin:20250708T220000
DTSTAMP:20260420T022308
CREATED:20250731T175631Z
LAST-MODIFIED:20250731T175941Z
UID:3094-1752003900-1752012000@frauenchor-dachsenhausen.de
SUMMARY:Sommerpause
DESCRIPTION:
URL:https://frauenchor-dachsenhausen.de/termin/sommerpause/
END:VEVENT
BEGIN:VEVENT
DTSTART;TZID=Europe/Berlin:20250715T194500
DTEND;TZID=Europe/Berlin:20250715T220000
DTSTAMP:20260420T022308
CREATED:20250731T175923Z
LAST-MODIFIED:20250731T175923Z
UID:3101-1752608700-1752616800@frauenchor-dachsenhausen.de
SUMMARY:Sommerpause
DESCRIPTION:
URL:https://frauenchor-dachsenhausen.de/termin/sommerpause-3/
END:VEVENT
BEGIN:VEVENT
DTSTART;TZID=Europe/Berlin:20250722T194500
DTEND;TZID=Europe/Berlin:20250722T220000
DTSTAMP:20260420T022308
CREATED:20250731T175713Z
LAST-MODIFIED:20250731T175737Z
UID:3096-1753213500-1753221600@frauenchor-dachsenhausen.de
SUMMARY:Chorprobe
DESCRIPTION:
URL:https://frauenchor-dachsenhausen.de/termin/sommerpause-2/
END:VEVENT
BEGIN:VEVENT
DTSTART;TZID=Europe/Berlin:20250729T194500
DTEND;TZID=Europe/Berlin:20250729T220000
DTSTAMP:20260420T022308
CREATED:20250731T175813Z
LAST-MODIFIED:20250731T175813Z
UID:3099-1753818300-1753826400@frauenchor-dachsenhausen.de
SUMMARY:Chorprobe
DESCRIPTION:
URL:https://frauenchor-dachsenhausen.de/termin/chorprobe/
END:VEVENT
END:VCALENDAR