BEGIN:VCALENDAR
VERSION:2.0
PRODID:-//Frauenchor Dachsenhausen e.V. - ECPv6.15.20//NONSGML v1.0//EN
CALSCALE:GREGORIAN
METHOD:PUBLISH
X-WR-CALNAME:Frauenchor Dachsenhausen e.V.
X-ORIGINAL-URL:https://frauenchor-dachsenhausen.de
X-WR-CALDESC:Veranstaltungen für Frauenchor Dachsenhausen e.V.
REFRESH-INTERVAL;VALUE=DURATION:PT1H
X-Robots-Tag:noindex
X-PUBLISHED-TTL:PT1H
BEGIN:VTIMEZONE
TZID:Europe/Berlin
BEGIN:DAYLIGHT
TZOFFSETFROM:+0100
TZOFFSETTO:+0200
TZNAME:CEST
DTSTART:20250330T010000
END:DAYLIGHT
BEGIN:STANDARD
TZOFFSETFROM:+0200
TZOFFSETTO:+0100
TZNAME:CET
DTSTART:20251026T010000
END:STANDARD
BEGIN:DAYLIGHT
TZOFFSETFROM:+0100
TZOFFSETTO:+0200
TZNAME:CEST
DTSTART:20260329T010000
END:DAYLIGHT
BEGIN:STANDARD
TZOFFSETFROM:+0200
TZOFFSETTO:+0100
TZNAME:CET
DTSTART:20261025T010000
END:STANDARD
BEGIN:DAYLIGHT
TZOFFSETFROM:+0100
TZOFFSETTO:+0200
TZNAME:CEST
DTSTART:20270328T010000
END:DAYLIGHT
BEGIN:STANDARD
TZOFFSETFROM:+0200
TZOFFSETTO:+0100
TZNAME:CET
DTSTART:20271031T010000
END:STANDARD
END:VTIMEZONE
BEGIN:VEVENT
DTSTART;TZID=Europe/Berlin:20260104T110000
DTEND;TZID=Europe/Berlin:20260104T140000
DTSTAMP:20260419T153414
CREATED:20260104T170123Z
LAST-MODIFIED:20260104T170123Z
UID:3244-1767524400-1767535200@frauenchor-dachsenhausen.de
SUMMARY:Neujahrsempfang
DESCRIPTION:
URL:https://frauenchor-dachsenhausen.de/termin/neujahrsempfang/
END:VEVENT
BEGIN:VEVENT
DTSTART;VALUE=DATE:20260106
DTEND;VALUE=DATE:20260107
DTSTAMP:20260419T153414
CREATED:20260104T170553Z
LAST-MODIFIED:20260104T170553Z
UID:3246-1767657600-1767743999@frauenchor-dachsenhausen.de
SUMMARY:Geburtstag Beate Abert
DESCRIPTION:
URL:https://frauenchor-dachsenhausen.de/termin/geburtstag-beate-abert/
END:VEVENT
BEGIN:VEVENT
DTSTART;TZID=Europe/Berlin:20260106T194500
DTEND;TZID=Europe/Berlin:20260106T213000
DTSTAMP:20260419T153414
CREATED:20260104T170640Z
LAST-MODIFIED:20260104T170640Z
UID:3248-1767728700-1767735000@frauenchor-dachsenhausen.de
SUMMARY:Chorprobe
DESCRIPTION:
URL:https://frauenchor-dachsenhausen.de/termin/chorprobe-9/
END:VEVENT
BEGIN:VEVENT
DTSTART;TZID=Europe/Berlin:20260113T194500
DTEND;TZID=Europe/Berlin:20260113T213000
DTSTAMP:20260419T153414
CREATED:20260104T170736Z
LAST-MODIFIED:20260104T170736Z
UID:3250-1768333500-1768339800@frauenchor-dachsenhausen.de
SUMMARY:Chorprobe
DESCRIPTION:
URL:https://frauenchor-dachsenhausen.de/termin/chorprobe-10/
END:VEVENT
BEGIN:VEVENT
DTSTART;TZID=Europe/Berlin:20260120T194500
DTEND;TZID=Europe/Berlin:20260120T213000
DTSTAMP:20260419T153414
CREATED:20260104T170806Z
LAST-MODIFIED:20260104T170806Z
UID:3252-1768938300-1768944600@frauenchor-dachsenhausen.de
SUMMARY:Chorprobe
DESCRIPTION:
URL:https://frauenchor-dachsenhausen.de/termin/chorprobe-11/
END:VEVENT
BEGIN:VEVENT
DTSTART;VALUE=DATE:20260123
DTEND;VALUE=DATE:20260124
DTSTAMP:20260419T153414
CREATED:20260104T171051Z
LAST-MODIFIED:20260104T171051Z
UID:3256-1769126400-1769212799@frauenchor-dachsenhausen.de
SUMMARY:Geburtstag Astrid Dany\, Ursula Sexter\, Elke Koloseike\, Renate Schlüter
DESCRIPTION:
URL:https://frauenchor-dachsenhausen.de/termin/geburtstag-astrid-dany-ursula-sexter-elke-koloseike-renate-schlueter/
END:VEVENT
BEGIN:VEVENT
DTSTART;VALUE=DATE:20260127
DTEND;VALUE=DATE:20260128
DTSTAMP:20260419T153414
CREATED:20260104T171124Z
LAST-MODIFIED:20260104T171124Z
UID:3258-1769472000-1769558399@frauenchor-dachsenhausen.de
SUMMARY:Geburtstag Gabi Pfeifer
DESCRIPTION:
URL:https://frauenchor-dachsenhausen.de/termin/geburtstag-gabi-pfeifer/
END:VEVENT
BEGIN:VEVENT
DTSTART;TZID=Europe/Berlin:20260127T194500
DTEND;TZID=Europe/Berlin:20260127T213000
DTSTAMP:20260419T153414
CREATED:20260104T170910Z
LAST-MODIFIED:20260104T170910Z
UID:3254-1769543100-1769549400@frauenchor-dachsenhausen.de
SUMMARY:Chorprobe
DESCRIPTION:
URL:https://frauenchor-dachsenhausen.de/termin/chorprobe-12/
END:VEVENT
END:VCALENDAR