BEGIN:VCALENDAR
VERSION:2.0
PRODID:-//Frauenchor Dachsenhausen e.V. - ECPv6.15.20//NONSGML v1.0//EN
CALSCALE:GREGORIAN
METHOD:PUBLISH
X-ORIGINAL-URL:https://frauenchor-dachsenhausen.de
X-WR-CALDESC:Veranstaltungen für Frauenchor Dachsenhausen e.V.
REFRESH-INTERVAL;VALUE=DURATION:PT1H
X-Robots-Tag:noindex
X-PUBLISHED-TTL:PT1H
BEGIN:VTIMEZONE
TZID:Europe/Berlin
BEGIN:DAYLIGHT
TZOFFSETFROM:+0100
TZOFFSETTO:+0200
TZNAME:CEST
DTSTART:20250330T010000
END:DAYLIGHT
BEGIN:STANDARD
TZOFFSETFROM:+0200
TZOFFSETTO:+0100
TZNAME:CET
DTSTART:20251026T010000
END:STANDARD
BEGIN:DAYLIGHT
TZOFFSETFROM:+0100
TZOFFSETTO:+0200
TZNAME:CEST
DTSTART:20260329T010000
END:DAYLIGHT
BEGIN:STANDARD
TZOFFSETFROM:+0200
TZOFFSETTO:+0100
TZNAME:CET
DTSTART:20261025T010000
END:STANDARD
BEGIN:DAYLIGHT
TZOFFSETFROM:+0100
TZOFFSETTO:+0200
TZNAME:CEST
DTSTART:20270328T010000
END:DAYLIGHT
BEGIN:STANDARD
TZOFFSETFROM:+0200
TZOFFSETTO:+0100
TZNAME:CET
DTSTART:20271031T010000
END:STANDARD
END:VTIMEZONE
BEGIN:VEVENT
DTSTART;TZID=Europe/Berlin:20260303T194500
DTEND;TZID=Europe/Berlin:20260303T213000
DTSTAMP:20260419T152029
CREATED:20260104T180500Z
LAST-MODIFIED:20260104T180500Z
UID:3282-1772567100-1772573400@frauenchor-dachsenhausen.de
SUMMARY:Chorprobe
DESCRIPTION:
URL:https://frauenchor-dachsenhausen.de/termin/chorprobe-15/
END:VEVENT
BEGIN:VEVENT
DTSTART;VALUE=DATE:20260310
DTEND;VALUE=DATE:20260311
DTSTAMP:20260419T152029
CREATED:20260104T180829Z
LAST-MODIFIED:20260104T180829Z
UID:3292-1773100800-1773187199@frauenchor-dachsenhausen.de
SUMMARY:Geburtstag Ute Schnorr
DESCRIPTION:
URL:https://frauenchor-dachsenhausen.de/termin/geburtstag-ute-schnorr/
END:VEVENT
BEGIN:VEVENT
DTSTART;TZID=Europe/Berlin:20260310T190000
DTEND;TZID=Europe/Berlin:20260310T220000
DTSTAMP:20260419T152029
CREATED:20260104T180544Z
LAST-MODIFIED:20260104T180544Z
UID:3284-1773169200-1773180000@frauenchor-dachsenhausen.de
SUMMARY:Jahreshauptversammlung
DESCRIPTION:
URL:https://frauenchor-dachsenhausen.de/termin/jahreshauptversammlung/
END:VEVENT
BEGIN:VEVENT
DTSTART;TZID=Europe/Berlin:20260317T194500
DTEND;TZID=Europe/Berlin:20260317T213000
DTSTAMP:20260419T152029
CREATED:20260104T180614Z
LAST-MODIFIED:20260104T180614Z
UID:3286-1773776700-1773783000@frauenchor-dachsenhausen.de
SUMMARY:Chorprobe
DESCRIPTION:
URL:https://frauenchor-dachsenhausen.de/termin/chorprobe-16/
END:VEVENT
BEGIN:VEVENT
DTSTART;VALUE=DATE:20260319
DTEND;VALUE=DATE:20260320
DTSTAMP:20260419T152029
CREATED:20260104T180905Z
LAST-MODIFIED:20260104T180905Z
UID:3294-1773878400-1773964799@frauenchor-dachsenhausen.de
SUMMARY:Geburtstag Barbara Meffert
DESCRIPTION:
URL:https://frauenchor-dachsenhausen.de/termin/geburtstag-barbara-meffert/
END:VEVENT
BEGIN:VEVENT
DTSTART;VALUE=DATE:20260322
DTEND;VALUE=DATE:20260323
DTSTAMP:20260419T152029
CREATED:20260104T180933Z
LAST-MODIFIED:20260104T180933Z
UID:3296-1774137600-1774223999@frauenchor-dachsenhausen.de
SUMMARY:Geburtstag Annette Fries
DESCRIPTION:
URL:https://frauenchor-dachsenhausen.de/termin/geburtstag-annette-fries/
END:VEVENT
BEGIN:VEVENT
DTSTART;TZID=Europe/Berlin:20260324T194500
DTEND;TZID=Europe/Berlin:20260324T213000
DTSTAMP:20260419T152029
CREATED:20260104T180647Z
LAST-MODIFIED:20260104T180647Z
UID:3288-1774381500-1774387800@frauenchor-dachsenhausen.de
SUMMARY:Chorprobe
DESCRIPTION:
URL:https://frauenchor-dachsenhausen.de/termin/chorprobe-17/
END:VEVENT
BEGIN:VEVENT
DTSTART;TZID=Europe/Berlin:20260331T194500
DTEND;TZID=Europe/Berlin:20260331T213000
DTSTAMP:20260419T152029
CREATED:20260104T180717Z
LAST-MODIFIED:20260104T180717Z
UID:3290-1774986300-1774992600@frauenchor-dachsenhausen.de
SUMMARY:Chorprobe
DESCRIPTION:
URL:https://frauenchor-dachsenhausen.de/termin/chorprobe-18/
END:VEVENT
END:VCALENDAR